BEGIN:VCALENDAR
VERSION:2.0
PRODID:-//Le Strade della Ceramica - ECPv4.8.2//NONSGML v1.0//EN
CALSCALE:GREGORIAN
METHOD:PUBLISH
X-WR-CALNAME:Le Strade della Ceramica
X-ORIGINAL-URL:https://www.stradaceramica.it
X-WR-CALDESC:Eventi per Le Strade della Ceramica
BEGIN:VEVENT
DTSTART;TZID=UTC+1:20180519T100000
DTEND;TZID=UTC+1:20180519T120000
DTSTAMP:20260424T213045
CREATED:20180508T101512Z
LAST-MODIFIED:20180508T101512Z
UID:10382-1526724000-1526731200@www.stradaceramica.it
SUMMARY:Visite guidate all'atelier Bagnoli
DESCRIPTION:Sabato 19 maggio la Pro Loco di Montelupo organizza delle visite guidate all’Atelier Spazioxtempo di Marco Bagnoli. \nA breve maggiori dettagli sulla pagina Facebook della Pro Loco Montelupo. \n  \n  \n
URL:https://www.stradaceramica.it/eventi/visite-guidate-allatelier-bagnoli/
LOCATION:Atelier Spazioxtempo di Marco Bagnoli\, Via della Quercia\, 9\, Montelupo Fiorentino\, 50056\, Italia
CATEGORIES:arte,Associazioni,Ceramica,mostre,territorio
ATTACH;FMTTYPE=image/jpeg:https://www.stradaceramica.it/wp-content/uploads/2018/05/32162805_862385510628413_4642330378156113920_n.jpg
END:VEVENT
END:VCALENDAR