BEGIN:VCALENDAR
VERSION:2.0
PRODID:-//Le Strade della Ceramica - ECPv4.8.2//NONSGML v1.0//EN
CALSCALE:GREGORIAN
METHOD:PUBLISH
X-WR-CALNAME:Le Strade della Ceramica
X-ORIGINAL-URL:https://www.stradaceramica.it
X-WR-CALDESC:Eventi per Le Strade della Ceramica
BEGIN:VEVENT
DTSTART;TZID=UTC+1:20180323T163000
DTEND;TZID=UTC+1:20180323T173000
DTSTAMP:20260424T213608
CREATED:20180126T115642Z
LAST-MODIFIED:20180315T091656Z
UID:9849-1521822600-1521826200@www.stradaceramica.it
SUMMARY:Visita alla chiesa di Capraia
DESCRIPTION:Venerdì 16 marzo ore 16\,30 l’AUSER propone la visita alla chiesa di Capraia con l’architetto Silvano Salvadori. Ritrovo davanti al MMAB di Montelupo e spostamento in auto con mezzi propri. Disponibilità di passaggi per chi non ha l’automobile insieme ad altri soci dell’AUSER. Al rientro\, verranno offerti tè e biscotti presso il MMAB Caffè a tutti i partecipanti. \nIngresso libero \n  \n
URL:https://www.stradaceramica.it/eventi/visita-alla-chiesa-san-lorenzo/
LOCATION:Chiesa di Capraia\, Italia
CATEGORIES:Cultura
ATTACH;FMTTYPE=image/png:https://www.stradaceramica.it/wp-content/uploads/2018/01/12063337_700942570005236_157126376881654177_n.png
END:VEVENT
END:VCALENDAR