BEGIN:VCALENDAR
VERSION:2.0
PRODID:-//Le Strade della Ceramica - ECPv4.8.2//NONSGML v1.0//EN
CALSCALE:GREGORIAN
METHOD:PUBLISH
X-WR-CALNAME:Le Strade della Ceramica
X-ORIGINAL-URL:https://www.stradaceramica.it
X-WR-CALDESC:Eventi per Le Strade della Ceramica
BEGIN:VEVENT
DTSTART;TZID=UTC+1:20190912T193000
DTEND;TZID=UTC+1:20190912T230000
DTSTAMP:20260424T123914
CREATED:20190905T143055Z
LAST-MODIFIED:20190905T143506Z
UID:11798-1568316600-1568329200@www.stradaceramica.it
SUMMARY:Swing in MMAB: musica dal vivo e esibizioni di ballo
DESCRIPTION:Al MMAB approda la musica dei primi anni del secolo scorso. Sonorità jazzate e ritmi incalzanti delizieranno gli spettatori. Lo swing\, un genere che conta sempre più appassionati\, invaderà il MMAB grazie alla musica suonata dal vivo. Il  quartetto “Tea for three” è composto da Stefano Montagnani (chitarra)\, Elena Guarducci (voce e percussioni)\, Alberto Mannatrizio (sax) e Mirco Capecchi (contrabbasso). Dalle 19.30 sarà possibile degustare un ottimo e sfizioso aperitivo al MMAB caffè\, mentre si esibiranno i ballerini della scuola Lindy hop in Florence. \nL’ingresso è libero e gratuito. \n
URL:https://www.stradaceramica.it/eventi/swing-in-mmab-musica-dal-vivo-e-esibizioni-di-ballo/
LOCATION:MMAB\, piazza Vittorio Veneto 11\, Montelupo Fiorentino\, 50056\, Italia
CATEGORIES:aperitivi,Cultura,Danza,Musica
ATTACH;FMTTYPE=image/jpeg:https://www.stradaceramica.it/wp-content/uploads/2019/09/Swing-in-mmab1_page-0001-e1567693820838.jpg
END:VEVENT
END:VCALENDAR