BEGIN:VCALENDAR
VERSION:2.0
PRODID:-//Le Strade della Ceramica - ECPv4.8.2//NONSGML v1.0//EN
CALSCALE:GREGORIAN
METHOD:PUBLISH
X-WR-CALNAME:Le Strade della Ceramica
X-ORIGINAL-URL:https://www.stradaceramica.it
X-WR-CALDESC:Eventi per Le Strade della Ceramica
BEGIN:VEVENT
DTSTART;TZID=UTC+1:20190518T183000
DTEND;TZID=UTC+1:20190518T220000
DTSTAMP:20260424T122000
CREATED:20190517T150913Z
LAST-MODIFIED:20190517T150913Z
UID:11694-1558204200-1558216800@www.stradaceramica.it
SUMMARY:STILL. David Lascaris in mostra
DESCRIPTION:Dal 18 maggio al 14 giugno 2019 presso la Nuova Galleria FACTO in via XX settembre a Montelupo Fiorentino sarà in mostra la personale di David Lascaris dal titolo STILL\, curata da Giuditta Elettra Lavinia Nidiaci. L’inaugurazione della mostra sarà sabato 18 maggio alle 18:30. \nLa seconda mostra proposta da FACTO per la Nuova Galleria vede protagonista un altro giovane artista del panorama italiano\, David Lascaris\, architetto di formazione\, che attualmente vive e lavora ad Amsterdam. \nNella lingua inglese “still” significa letteralmente “ancora”. Una parola che oggigiorno ha assunto diverse declinazioni in relazione all’ambito in cui viene usata\, come ad esempio nel mondo della moda e del design dove si usa universalmente “still life” per indicare il concetto di “natura morta”.\nDa questo primitivo input Lascaris ha ideato e prodotto un corpus di lavori inediti e specifici per la Nuova Galleria di FACTO\, che hanno come perno concettuale il tema della morte in senso esoterico e dilatato\, e ancora come passaggio fluido a una dimensione più profonda dell’essere\, piuttosto che come conclusione netta di un ciclo vitale. \n
URL:https://www.stradaceramica.it/eventi/still-david-lascaris-in-mostra/
LOCATION:Nuova galleria d’arte\, Via XX Settembre 37\, Montelupo Fiorentino\, Firenze\, Italia
CATEGORIES:arte contemporanea,Incontri,mostre
ATTACH;FMTTYPE=image/jpeg:https://www.stradaceramica.it/wp-content/uploads/2019/05/lascaris.jpg
END:VEVENT
END:VCALENDAR