BEGIN:VCALENDAR
VERSION:2.0
PRODID:-//Le Strade della Ceramica - ECPv4.8.2//NONSGML v1.0//EN
CALSCALE:GREGORIAN
METHOD:PUBLISH
X-WR-CALNAME:Le Strade della Ceramica
X-ORIGINAL-URL:https://www.stradaceramica.it
X-WR-CALDESC:Eventi per Le Strade della Ceramica
BEGIN:VEVENT
DTSTART;TZID=UTC+1:20200711T170000
DTEND;TZID=UTC+1:20200829T183000
DTSTAMP:20260424T034700
CREATED:20200703T140248Z
LAST-MODIFIED:20200703T140356Z
UID:12155-1594486800-1598725800@www.stradaceramica.it
SUMMARY:Sabato in ceramica
DESCRIPTION:11\, 18 e 25 luglio – 1\, 8\, 22 e 29 agosto | Ore 17 \nIl Museo della Ceramica di Montelupo Fiorentino vi dà appuntamento ogni sabato pomeriggio per scoprire le atmosfere delle sue collezioni storiche e per incontrare un ceramista montelupino\, che vi racconterà dal vivo i segreti dell’argilla e delle sue tradizionali decorazioni. Un percorso che attraversa nove secoli fra colori e curiosità di storia e di società fiorentina. \nLa visita potrà proseguire autonomamente nel Borgo di Montelupo\, dove l’impianto trecentesco ospita un suggestivo itinerario fra scorci architettonici e creazioni d’arte contemporanea di grandi maestri impegnati nella lavorazione ceramica. \n  \nCosto 10\,00 euro a partecipante. \nVisita guidata su prenotazione al:  0571 1590300 o info@museomontelupo.it \n
URL:https://www.stradaceramica.it/eventi/sabato-in-ceramica/
LOCATION:Museo della Ceramica Montelupo Fiorentino\, Piazza Vittorio Veneto 11\, Montelupo Fiorentino\, Italia
CATEGORIES:arte,arte contemporanea,Ceramica,Museo,territorio
ATTACH;FMTTYPE=image/jpeg:https://www.stradaceramica.it/wp-content/uploads/2019/09/facciata-museo-montelupo.jpg
ORGANIZER;CN="Comune%20di%20Montelupo%20Fiorentino":MAILTO:m.cubattoli@comune.montelupo-fiorentino.fi.it
END:VEVENT
END:VCALENDAR