BEGIN:VCALENDAR
VERSION:2.0
PRODID:-//Le Strade della Ceramica - ECPv4.8.2//NONSGML v1.0//EN
CALSCALE:GREGORIAN
METHOD:PUBLISH
X-WR-CALNAME:Le Strade della Ceramica
X-ORIGINAL-URL:https://www.stradaceramica.it
X-WR-CALDESC:Eventi per Le Strade della Ceramica
BEGIN:VEVENT
DTSTART;TZID=UTC+1:20181122T173000
DTEND;TZID=UTC+1:20181122T173000
DTSTAMP:20260424T184457
CREATED:20181027T100130Z
LAST-MODIFIED:20181106T141533Z
UID:11144-1542907800-1542907800@www.stradaceramica.it
SUMMARY:Presentazione del libro “Sepolti nella nebbia” di Targiom Aiogi
DESCRIPTION:Sarà presente l’autore\, che darà anche dimostrazione della propria arte grafica con disegni dal vivo. \nDialogano con l’autore le giornaliste de La Nazione di Empoli Ilaria Papini e Costanza Ciappi. \nA proposito del libro:\n“L’eterno conflitto tra bene e male è in queste pagine interpretato sotto forma di un racconto adrenalinico e dal ritmo sempre incalzante. Attraverso le vicissitudini di Aiton\, il lettore ha modo di scoprire\, passo dopo passo\, se stesso. I suoi timori\, le sue paure\, tutto viene messo davanti a uno specchio nel quale\, immerso nella propria condizione di essere umano\, si riflette. Un romanzo ben strutturato\, di piacevole lettura e con una profonda morale finale. Una lettura consigliata agli amanti delle opere ricche di contaminazione di generi (qui nello specifico fantasy\, thriller\, horror) e a chiunque desidera andare oltre le parole impresse sulla carta”. \nA proposito dell’autore:\nAlessio Zoccheddu\, in arte Targiom Aiogi\, oltre a scrivere\, disegna graphic novels\, pubblicate online dal 2014 e occasionalmente stampate in tiratura ridotta. Ha prodotto\, in collaborazione con la sua insegnante di Storia dell’Arte della scuola superiore\, graphic novels a scopo didattico/celebrativo ispirate alla vita dei grandi artisti: in particolare\, sono già stati pubblicate online e stampate storie a fumetti su Pablo Picasso e Salvador Dalì\, ed un altro fumetto nella serie è in lavorazione. Dopo il diploma presso il Liceo Scientifico Il Pontormo di Empoli\, ha studiato Game Design alla Scuola Internazionale di Comics di Firenze\, e attualmente\, in parallelo a libri e fumetti\, sviluppa videogiochi all’interno di un piccolo team indipendente. \n
URL:https://www.stradaceramica.it/eventi/presentazione-del-libro-sepolti-nella-nebbia-graphic-novel-di-targiom-aiogi/
LOCATION:MMAB\, piazza Vittorio Veneto 11\, Montelupo Fiorentino\, 50056\, Italia
CATEGORIES:arte,Incontri,Libri,Museo,ragazzi
ATTACH;FMTTYPE=image/jpeg:https://www.stradaceramica.it/wp-content/uploads/2018/10/9788893754453_0_0_0_75.jpg
END:VEVENT
END:VCALENDAR