BEGIN:VCALENDAR
VERSION:2.0
PRODID:-//Le Strade della Ceramica - ECPv4.8.2//NONSGML v1.0//EN
CALSCALE:GREGORIAN
METHOD:PUBLISH
X-WR-CALNAME:Le Strade della Ceramica
X-ORIGINAL-URL:https://www.stradaceramica.it
X-WR-CALDESC:Eventi per Le Strade della Ceramica
BEGIN:VEVENT
DTSTART;TZID=UTC+1:20190525T100000
DTEND;TZID=UTC+1:20190526T233000
DTSTAMP:20260424T153929
CREATED:20190517T151531Z
LAST-MODIFIED:20190517T151531Z
UID:11697-1558778400-1558913400@www.stradaceramica.it
SUMMARY:PeSa - Perlopiù street art
DESCRIPTION:La manifestazione avrà come evento principale l’inaugurazione dell’opera di Ligama sul lungo Pesa e sulla facciata della palazzina di Facto in via XX Settembre. Un evento per festeggiare il primo compleanno di Facto! \n
URL:https://www.stradaceramica.it/eventi/pesa-perlopiu-street-art/
LOCATION:Centro Storico
CATEGORIES:arte contemporanea,Cultura
ATTACH;FMTTYPE=image/jpeg:https://www.stradaceramica.it/wp-content/uploads/2019/05/ligama.jpg
END:VEVENT
END:VCALENDAR