BEGIN:VCALENDAR
VERSION:2.0
PRODID:-//Le Strade della Ceramica - ECPv4.8.2//NONSGML v1.0//EN
CALSCALE:GREGORIAN
METHOD:PUBLISH
X-WR-CALNAME:Le Strade della Ceramica
X-ORIGINAL-URL:https://www.stradaceramica.it
X-WR-CALDESC:Eventi per Le Strade della Ceramica
BEGIN:VEVENT
DTSTART;TZID=UTC+1:20180908T160000
DTEND;TZID=UTC+1:20180909T200000
DTSTAMP:20260424T132945
CREATED:20180825T102500Z
LAST-MODIFIED:20180825T102500Z
UID:10888-1536422400-1536523200@www.stradaceramica.it
SUMMARY:MOVE SOCIAL AL Parco dell’Ambrogiana
DESCRIPTION:Un evento\, promosso dalla Delegazione Cesvot di Empoli\, che vedrà al Parco dell’Ambrogiana tanti volontari e associazioni mobilitate per promuovere la solidarietà del volontariato empolese.  \nNon solo una festa\, ma anche un’occasione per le associazioni di presentare le loro attività\, e un’opportunità per i cittadini di informarsi sui servizi offerti.  \nIl programma prevede: \nSabato 8 settembre  \n16.00  Inaugurazione e apertura stand \n19.30  Cena nel parco \n21.00  MoveSocial Dance\, spettacolo di danza a cura delle scuole del territorio \nDomenica 9 settembre  \n9.30 – 13.00  Biciclettata alla scoperta della Villa Romana del Verginio \n10.00 – 12.00  Trekking alla coperta di Montelupo Fiorentino  \n16.00 – 20.00  Stand delle associazioni con laboratori\, sport\, giochi\, musica\, incontri  \n17.30  Un pallone contro la violenza \n
URL:https://www.stradaceramica.it/eventi/move-social-al-parco-dellambrogiana/
LOCATION:Parco dell’Ambrogiana
CATEGORIES:Associazioni,Musica,natura,passeggiate,Sport
ATTACH;FMTTYPE=image/jpeg:https://www.stradaceramica.it/wp-content/uploads/2018/08/40001178_2143982685625903_4932306370750840832_o.jpg
END:VEVENT
END:VCALENDAR