BEGIN:VCALENDAR
VERSION:2.0
PRODID:-//Le Strade della Ceramica - ECPv4.8.2//NONSGML v1.0//EN
CALSCALE:GREGORIAN
METHOD:PUBLISH
X-WR-CALNAME:Le Strade della Ceramica
X-ORIGINAL-URL:https://www.stradaceramica.it
X-WR-CALDESC:Eventi per Le Strade della Ceramica
BEGIN:VEVENT
DTSTART;TZID=UTC+1:20180318T090000
DTEND;TZID=UTC+1:20180318T190000
DTSTAMP:20260424T233454
CREATED:20180209T171756Z
LAST-MODIFIED:20180313T085903Z
UID:9883-1521363600-1521399600@www.stradaceramica.it
SUMMARY:Montelupo in fiore
DESCRIPTION:Sboccia la primavera a Montelupo Fiorentino\nMontelupo Fiorentino\, domenica 18 marzo dalle ore 9.00 alle ore 19.00\, diventerà un giardino per la 22° edizione di Montelupo in Fiore. \nCentinaia sono gli espositori e migliaia i visitatori che arrivano nella città della ceramica\, questa volta per scoprire le ultime novità nell’ambito del florovivaismo\, o più semplicemente per acquistare arbusti\, fiori o piante aromatiche. \nCosa prevede il programma?\nCentro storico\n– Mostra – mercato di piante\, fiori e agrumi \nGalleria di Corso Garibaldi\n– Aiutiamo gli impollinatori e quindi i fiori\n– Laboratori per bambini\, conferenze\, “Aperimiele”\n– Mostra di nidi di imenotteri e mostra fotografica sulle piante “succulente”\n– Iniziativa a cura dell’associazione Terra Incognita \nPiazza dell’Unione Europea\n– Mostra – mercato dell’artigianato \n– Mostra – mercato di piante e fiori\, piante aromatiche\, arredo da giardino\, articoli per il giardinaggio\, floricoltura\, articoli da campeggio \n– Mostra di cavalli da equitazione\, asini e pony con possibilità di salire in sella agli animali\, accompagnati da un’istruttore \nIniziativa promossa dal Comune di Montelupo Fiorentino ed organizzata dal Centro Commerciale Naturale “Borgo degli Arlecchini” e PromoEventi \n  \n
URL:https://www.stradaceramica.it/eventi/montelupo-in-fiore/
CATEGORIES:Domenica
ATTACH;FMTTYPE=image/jpeg:https://www.stradaceramica.it/wp-content/uploads/2018/02/28795679_1856884310998041_6566882896000435199_n.jpg
END:VEVENT
END:VCALENDAR