BEGIN:VCALENDAR
VERSION:2.0
PRODID:-//Le Strade della Ceramica - ECPv4.8.2//NONSGML v1.0//EN
CALSCALE:GREGORIAN
METHOD:PUBLISH
X-WR-CALNAME:Le Strade della Ceramica
X-ORIGINAL-URL:https://www.stradaceramica.it
X-WR-CALDESC:Eventi per Le Strade della Ceramica
BEGIN:VEVENT
DTSTART;TZID=UTC+1:20180703T213000
DTEND;TZID=UTC+1:20180703T233000
DTSTAMP:20260424T195207
CREATED:20180622T154349Z
LAST-MODIFIED:20180703T085105Z
UID:10496-1530653400-1530660600@www.stradaceramica.it
SUMMARY:Mignon sotto le stelle| Saranno Famosi? Di Alessandro Sarti
DESCRIPTION:Il Cinema Mignon propone per la stagione estiva: \nMIGNON SOTTO LE STELLE– Ex cinema Risorti\, ingresso da via Baccio da Montelupo \nMartedì 3 Luglio \nSARANNO FAMOSI? Di Alessandro Sarti (alla presenza del regista e degli attori) \nPrenotazioni e info: 335 5412732- 366 1911411 |www.cinemamignon.it \nDi seguito il programma completo del mese di Luglio \n \n  \n
URL:https://www.stradaceramica.it/eventi/mignon-sotto-le-stelle-saranno-famosi/
LOCATION:Ex cinema Risorti\, Corso Garibaldi\, Montelupo Fiorentino
CATEGORIES:Cinema
ATTACH;FMTTYPE=image/jpeg:https://www.stradaceramica.it/wp-content/uploads/2018/06/saranno-famosi.jpg
END:VEVENT
END:VCALENDAR