BEGIN:VCALENDAR
VERSION:2.0
PRODID:-//Le Strade della Ceramica - ECPv4.8.2//NONSGML v1.0//EN
CALSCALE:GREGORIAN
METHOD:PUBLISH
X-WR-CALNAME:Le Strade della Ceramica
X-ORIGINAL-URL:https://www.stradaceramica.it
X-WR-CALDESC:Eventi per Le Strade della Ceramica
BEGIN:VEVENT
DTSTART;TZID=UTC+1:20180719T213000
DTEND;TZID=UTC+1:20180719T233000
DTSTAMP:20260424T185242
CREATED:20180702T102504Z
LAST-MODIFIED:20180703T091753Z
UID:10627-1532035800-1532043000@www.stradaceramica.it
SUMMARY:Mignon sotto le stelle| Napoli velata di Ferzan Ozpetek
DESCRIPTION:Il Cinema Mignon propone per la stagione estiva \nMIGNON SOTTO LE STELLE– Ex Cinema Risorti\, ingresso da via Baccio da Montelupo \nGiovedì 19 Luglio ore 21.30: NAPOLI VELATA di Ferzan Ozpetek \nPer informazioni www.cinemamignon.it \nDi seguito il programma completo del mese di Luglio \n \n  \n
URL:https://www.stradaceramica.it/eventi/mignon-sotto-le-stelle-napoli-velata-di-ferzan-ozpetek/
LOCATION:Ex cinema Risorti\, Corso Garibaldi\, Montelupo Fiorentino
CATEGORIES:Cinema
ATTACH;FMTTYPE=image/jpeg:https://www.stradaceramica.it/wp-content/uploads/2018/07/http___media.cineblog.it_b_ba5_napoli-velata-primo-teaser-poster-del-film-di-ferzan-ozpetek.jpg
ORGANIZER;CN="Comune%20di%20Montelupo%20Fiorentino":MAILTO:m.cubattoli@comune.montelupo-fiorentino.fi.it
END:VEVENT
END:VCALENDAR