BEGIN:VCALENDAR
VERSION:2.0
PRODID:-//Le Strade della Ceramica - ECPv4.8.2//NONSGML v1.0//EN
CALSCALE:GREGORIAN
METHOD:PUBLISH
X-WR-CALNAME:Le Strade della Ceramica
X-ORIGINAL-URL:https://www.stradaceramica.it
X-WR-CALDESC:Eventi per Le Strade della Ceramica
BEGIN:VEVENT
DTSTART;TZID=UTC+1:20180712T093000
DTEND;TZID=UTC+1:20180712T233000
DTSTAMP:20260424T170913
CREATED:20180702T100641Z
LAST-MODIFIED:20180703T084612Z
UID:10617-1531387800-1531438200@www.stradaceramica.it
SUMMARY:MIGNON SOTTO LE STELLE| COCO DI ADRIAN MOLINA\, LEE UKRICH (WALT DISNEY)
DESCRIPTION:Il Cinema Mignon propone per la stagione estiva: \nMIGNON SOTTO LE STELLE– Ex cinema Risorti- ingresso da Via Baccio \nGiovedì 12 Luglio: COCO di Adrian Molina\, Lee Ukrich (Walt Disney) \nPer informazioni: www.cinemamignon.it \nDi seguito il programma completo del mese di Luglio \n \n  \n
URL:https://www.stradaceramica.it/eventi/mignon-sotto-le-stelle-coco-di-adrian-molina-lee-ukrich-walt-disney/
LOCATION:Ex cinema Risorti\, Corso Garibaldi\, Montelupo Fiorentino
CATEGORIES:Cinema
ATTACH;FMTTYPE=image/jpeg:https://www.stradaceramica.it/wp-content/uploads/2018/07/r-1505326775-Coco1.jpg
END:VEVENT
END:VCALENDAR