BEGIN:VCALENDAR
VERSION:2.0
PRODID:-//Le Strade della Ceramica - ECPv4.8.2//NONSGML v1.0//EN
CALSCALE:GREGORIAN
METHOD:PUBLISH
X-WR-CALNAME:Le Strade della Ceramica
X-ORIGINAL-URL:https://www.stradaceramica.it
X-WR-CALDESC:Eventi per Le Strade della Ceramica
BEGIN:VEVENT
DTSTART;TZID=UTC+1:20191116T211500
DTEND;TZID=UTC+1:20191116T230000
DTSTAMP:20260424T153032
CREATED:20191108T102548Z
LAST-MODIFIED:20191108T103323Z
UID:11991-1573938900-1573945200@www.stradaceramica.it
SUMMARY:L'uomo e il clima - cosa succede al nostro pianeta?
DESCRIPTION:Incontro con Bruno Carli\, direttore di ricerca presso il IFAC-CNR di Firenze\, che ha condotto numerosi esperimenti per lo studio della fisica e chimica dell’atmosfera. \nL’ingresso è libero\, ma è gradita la prenotazione. \n
URL:https://www.stradaceramica.it/eventi/luomo-e-il-clima-cosa-succede-al-nostro-pianeta/
LOCATION:Museo Archeologico\, via Santa Lucia 33\, Montelupo Fiorentino\, Firenze\, 50056\, Italia
CATEGORIES:Incontri,Museo,natura,Scienza
ATTACH;FMTTYPE=image/jpeg:https://www.stradaceramica.it/wp-content/uploads/2019/11/IMG_9742.jpg
ORGANIZER;CN="Centro%20didattico%20Terra%20Incognita":MAILTO:blume@centroterraincognita.it
END:VEVENT
END:VCALENDAR