BEGIN:VCALENDAR
VERSION:2.0
PRODID:-//Le Strade della Ceramica - ECPv4.8.2//NONSGML v1.0//EN
CALSCALE:GREGORIAN
METHOD:PUBLISH
X-WR-CALNAME:Le Strade della Ceramica
X-ORIGINAL-URL:https://www.stradaceramica.it
X-WR-CALDESC:Eventi per Le Strade della Ceramica
BEGIN:VEVENT
DTSTART;TZID=UTC+1:20180705T200000
DTEND;TZID=UTC+1:20180708T230000
DTSTAMP:20260425T002158
CREATED:20180626T102342Z
LAST-MODIFIED:20180626T102342Z
UID:10541-1530820800-1531090800@www.stradaceramica.it
SUMMARY:La Torre del Vetro
DESCRIPTION:Frazione che vai\, tradizione che trovi. La Torre\, borgo adagiato sul fiume Arno è stato per secoli luogo di produzione del vetro.\nOgni anno questa tradizione viene ricordata con una manifestazione che per quattro giorni anima la frazione con eventi e dimostrazioni dal vivo. \nPer il 2018 l’appuntamento è dal 5 all’8 luglio.\nIl programma degli spettacoli prevede:\n5 luglio_ Zeppelin Graffiti\n6 luglio _ Ance + Echo Beach\n7 luglio _ Radiofreccia Pisa\n8 luglio _ Generazione di sconvolti \nConcerti e degustazioni proseguono poi anche la settimana successiva con “Torre in festa”.\nDa segnalare il 5 luglio alle ore 17.00 l’inaugurazione della statua omaggio ai vetrai. \ninfo su https://www.facebook.com/events/2152877401623824/ \n
URL:https://www.stradaceramica.it/eventi/la-torre-del-vetro/
LOCATION:MOntelupo F.no (località Torre)\, Piazzetta della Torre Lunga\, Montelupo F.no
CATEGORIES:territorio,vetro
ATTACH;FMTTYPE=image/jpeg:https://www.stradaceramica.it/wp-content/uploads/2018/06/35971004_1673722846010779_5668674626704637952_n.jpg
ORGANIZER;CN="Comune%20di%20Montelupo%20Fiorentino":MAILTO:m.cubattoli@comune.montelupo-fiorentino.fi.it
END:VEVENT
END:VCALENDAR