BEGIN:VCALENDAR
VERSION:2.0
PRODID:-//Le Strade della Ceramica - ECPv4.8.2//NONSGML v1.0//EN
CALSCALE:GREGORIAN
METHOD:PUBLISH
X-WR-CALNAME:Le Strade della Ceramica
X-ORIGINAL-URL:https://www.stradaceramica.it
X-WR-CALDESC:Eventi per Le Strade della Ceramica
BEGIN:VEVENT
DTSTART;TZID=UTC+1:20180529T173000
DTEND;TZID=UTC+1:20180529T233000
DTSTAMP:20260424T171032
CREATED:20180428T073703Z
LAST-MODIFIED:20180515T124706Z
UID:10329-1527615000-1527636600@www.stradaceramica.it
SUMMARY:La stessa rabbia\, la stessa primavera: la canzone di protesta\, i giovani e il Sessantotto
DESCRIPTION:La primavera del 1968 fu caratterizzata dall’emergere e dal dilagare di proteste in tutto il mondo. Tutto ebbe inizio negli Stati Uniti durante gli anni ’60 (movimento contro la guerra e la segregazione razziale)\, ma l’esplosione del fenomeno si ebbe in Francia (Maggio francese)\, quando si susseguirono una serie di scioperi studenteschi (spesso gli studenti agivano unitariamente con gli operai) in numerose università e istituti di Parigi\, seguiti da violenti scontri con le forze dell’ordine che in seguito si propagarono praticamente ovunque. \nIl comune di Montelupo ha deciso di ricordare questi avvenimenti con alcune iniziative\, la prima delle quali è una giornata dedicata alla canzone di protesta. \nMARTEDI’ 29 MAGGIO PRESSO IL MMAB di piazza Vittorio Veneto 11 – ingresso libero \nore 17.30 – Generazioni a confronto. Presentazione di video interviste dei giovani di oggi e dei giovani di ieri sui temi che caratterizzarono le proteste del 1968\nore 18.00 – Conferenza sulla canzone di protesta con Paolo Pietrangeli\nore 20.00 – Buffet al MMAB Caffè – costo 3 euro\nore 21.30 – Concerto spettacolo “La stessa rabbia\, la stessa primavera” con Chiara Riondino\, Francesca Breschi\, Francesco Frank Cusumano. Da Bob Dylan a Fabrizio De André\, dal discorso di Che Guevara alle Nazioni Unite alla trasmissione radio che annuncia l’invasione di Praga. 29 tracce per raccontare il movimento che ha segnato la storia e la società. \nPer informazioni sull’evento: 0571-917552 \ne-mail: c.trinci@comune.montelupo-fiorentino.fi.it \nLeggi l’approfondimento sul blog della biblioteca! \n
URL:https://www.stradaceramica.it/eventi/la-stessa-rabbia-la-stessa-primavera-la-canzone-di-protesta-i-giovani-e-il-sessantotto/
LOCATION:MMAB\, piazza Vittorio Veneto 11\, Montelupo Fiorentino\, 50056\, Italia
CATEGORIES:Cultura,Incontri,Libri,Musica
ATTACH;FMTTYPE=image/png:https://www.stradaceramica.it/wp-content/uploads/2018/04/68-copertina-diario-FB-e1526388362270.png
ORGANIZER;CN="MMAB%20Biblioteca":MAILTO:biblioteca@comune.montelupo-fiorentino.fi.it
END:VEVENT
END:VCALENDAR