BEGIN:VCALENDAR
VERSION:2.0
PRODID:-//Le Strade della Ceramica - ECPv4.8.2//NONSGML v1.0//EN
CALSCALE:GREGORIAN
METHOD:PUBLISH
X-WR-CALNAME:Le Strade della Ceramica
X-ORIGINAL-URL:https://www.stradaceramica.it
X-WR-CALDESC:Eventi per Le Strade della Ceramica
BEGIN:VEVENT
DTSTART;TZID=UTC+1:20180323T213000
DTEND;TZID=UTC+1:20180326T233000
DTSTAMP:20260424T200413
CREATED:20180313T152717Z
LAST-MODIFIED:20180313T152717Z
UID:10089-1521840600-1522107000@www.stradaceramica.it
SUMMARY:LA FORMA DELL'ACQUA AL CINEMA MIGNON
DESCRIPTION:Programmazione LA FORMA DELL’ACQUA al Cinema Mignon: \nVenerdì 23 Marzo: 21.30 \nSabato 24 Marzo: 20.30 e 22.40 \nDomenica 25 Marzo: 21.00 \nLunedì 26 Marzo: 21.30 \nPer maggiori informazioni consulta il sito del Cinema Mignon.  \n
URL:https://www.stradaceramica.it/eventi/la-forma-dellacqua-al-cinema-mignon/
LOCATION:Teatro Cinema Mignon\, Via Baccio da Montelupo\, 33\, 50056 Montelupo Fiorentino FI\, Montelupo Fiorentino
CATEGORIES:Cinema
ATTACH;FMTTYPE=image/jpeg:https://www.stradaceramica.it/wp-content/uploads/2018/03/La-forma.jpg
END:VEVENT
END:VCALENDAR