BEGIN:VCALENDAR
VERSION:2.0
PRODID:-//Le Strade della Ceramica - ECPv4.8.2//NONSGML v1.0//EN
CALSCALE:GREGORIAN
METHOD:PUBLISH
X-WR-CALNAME:Le Strade della Ceramica
X-ORIGINAL-URL:https://www.stradaceramica.it
X-WR-CALDESC:Eventi per Le Strade della Ceramica
BEGIN:VEVENT
DTSTART;TZID=UTC+1:20181211T210000
DTEND;TZID=UTC+1:20181211T210000
DTSTAMP:20260424T212650
CREATED:20181204T093419Z
LAST-MODIFIED:20181204T093419Z
UID:11289-1544562000-1544562000@www.stradaceramica.it
SUMMARY:Il Maggio Metropolitano 2018
DESCRIPTION:MUSEO ARCHEOLOGICO \nMartedì 11 dicembre 2018\, ore 21:15 \nProfessori dell’Orchestra del Maggio Musicale Fiorentino \nTommaso Vannucci\, violino \nLuisa Bellitto\, violino \nMichele Tazzari\, violoncello \nMarco Martelli\, contrabbasso \nGioachino Rossini \nSonate a quattro\, n.1 – n.2 – n.3 \nDuetto per violoncello e contrabbasso \nL’evento è gratuito\, per ulteriori informazioni e prenotazioni si prega di rivolgersi alla segreteria del Museo della Ceramica (Piazza V. Veneto\, 10-11\, Montelupo F.no. Tel: 0571/51087) \n  \n  \n
URL:https://www.stradaceramica.it/eventi/il-maggio-metropolitano-2018/
LOCATION:Museo Archeologico\, via Santa Lucia 33\, Montelupo Fiorentino\, Firenze\, 50056\, Italia
CATEGORIES:Incontri,Musica,passeggiate
ATTACH;FMTTYPE=image/jpeg:https://www.stradaceramica.it/wp-content/uploads/2018/12/maggiometropolitano2018-e1543921929228.jpg
END:VEVENT
END:VCALENDAR