BEGIN:VCALENDAR
VERSION:2.0
PRODID:-//Le Strade della Ceramica - ECPv4.8.2//NONSGML v1.0//EN
CALSCALE:GREGORIAN
METHOD:PUBLISH
X-WR-CALNAME:Le Strade della Ceramica
X-ORIGINAL-URL:https://www.stradaceramica.it
X-WR-CALDESC:Eventi per Le Strade della Ceramica
BEGIN:VEVENT
DTSTART;TZID=UTC+1:20190724T190000
DTEND;TZID=UTC+1:20190724T233000
DTSTAMP:20260424T092458
CREATED:20190717T140100Z
LAST-MODIFIED:20190717T140252Z
UID:11768-1563994800-1564011000@www.stradaceramica.it
SUMMARY:IL COLORE INTERIORE | PRESENTAZIONE CATALOGO E VISITA GUIDATA
DESCRIPTION:Mercoledì 24 luglio\, in occasione dell’ultimo appuntamento con “Mostre in notturna”\, vi aspettiamo al Museo della Ceramica per la presentazione ufficiale del catalogo della mostra “Il colore interiore: cromatismi e apparenze della ceramica contemporanea”. \nSeguirà una visita guidata con il curatore della mostra Matteo Zauli\, per scoprire storie\, aneddoti\, motivazioni e alcuni segreti delle opere esposte! \nIL PROGRAMMA \n19:00 | “Dal MMAB si vede Capraia – Aperitivi e vinili sotto le stelle” apericena con DJ Set \n21:30 | Presentazione del catalogo “Il colore interiore” edito da All’Insegna del Giglio s.a.s. e visita guidata alla mostra con il curatore.\nBrindisi offerto dal Museo\nNavetta gratuita per la Prioria di San Lorenzo \nMuseo della Ceramica di Montelupo Fiorentino\nPiazza Vittorio Veneto\, 11\n50056 – Montelupo Fiorentino (FI) \n info@museomontelupo.it\n 0571 51352 – 0571 51087 \n
URL:https://www.stradaceramica.it/eventi/il-colore-interiore-presentazione-catalogo-e-visita-guidata/
LOCATION:Museo della Ceramica Montelupo Fiorentino\, Piazza Vittorio Veneto 11\, Montelupo Fiorentino\, Italia
CATEGORIES:aperitivi,arte contemporanea,Ceramica,mostre
ATTACH;FMTTYPE=image/png:https://www.stradaceramica.it/wp-content/uploads/2019/07/Ilcoloreinteriore_copertina_Tavola-disegno-1.png
END:VEVENT
END:VCALENDAR