BEGIN:VCALENDAR
VERSION:2.0
PRODID:-//Le Strade della Ceramica - ECPv4.8.2//NONSGML v1.0//EN
CALSCALE:GREGORIAN
METHOD:PUBLISH
X-WR-CALNAME:Le Strade della Ceramica
X-ORIGINAL-URL:https://www.stradaceramica.it
X-WR-CALDESC:Eventi per Le Strade della Ceramica
BEGIN:VEVENT
DTSTART;TZID=UTC+1:20190531T210000
DTEND;TZID=UTC+1:20190531T220000
DTSTAMP:20260424T154231
CREATED:20190509T101304Z
LAST-MODIFIED:20190509T101304Z
UID:11670-1559336400-1559340000@www.stradaceramica.it
SUMMARY:Il caso Apophis. L'asteroide che ci saluterà da vicino - Da Montelupo si vede l'Universo
DESCRIPTION:Il Gruppo Astrofili di Montelupo organizza un ciclo di 4 conferenze a tema\, seguite dall’osservazione del cielo notturno per chi vuole rimanere. \nLe conferenze sono ad ingresso gratuito\, con un gradito contribuito per l’Osservatorio. \nTutte le conferenze hanno come orario 21:00 – 22:00 \nPrima conferenza:\nIl caso Apophis. L’asteroide che ci saluterà da vicino\, a cura del dottor Fabrizio Bernardi \n  \n
URL:https://www.stradaceramica.it/eventi/il-caso-apophis-l-asteroide-che-ci-salutera-da-vicino/
LOCATION:Osservatorio Beppe Forti\, via San Vito\, Montelupo Fiorentino\, Italia
CATEGORIES:Associazioni,Cultura,Incontri,natura,territorio
ATTACH;FMTTYPE=image/jpeg:https://www.stradaceramica.it/wp-content/uploads/2019/05/Conferenze-astrofili.jpg
END:VEVENT
END:VCALENDAR