BEGIN:VCALENDAR
VERSION:2.0
PRODID:-//Le Strade della Ceramica - ECPv4.8.2//NONSGML v1.0//EN
CALSCALE:GREGORIAN
METHOD:PUBLISH
X-WR-CALNAME:Le Strade della Ceramica
X-ORIGINAL-URL:https://www.stradaceramica.it
X-WR-CALDESC:Eventi per Le Strade della Ceramica
BEGIN:VEVENT
DTSTART;TZID=UTC+1:20181212T163000
DTEND;TZID=UTC+1:20181212T163000
DTSTAMP:20260424T201006
CREATED:20181204T100406Z
LAST-MODIFIED:20181204T100406Z
UID:11300-1544632200-1544632200@www.stradaceramica.it
SUMMARY:I mercoledì del MMAB: Dino Campana
DESCRIPTION:Mercoledì 12 dicembre\, ore 16:30 \nA cura dell’Associazione AUSER di Montelupo. \nIl professor Silvano Salvadori parlerà del poeta di Marradi\, Dino Campana. \nTè e biscotti di benvenuto al MMAB Caffè\, saranno offerti dall’Auser. \n
URL:https://www.stradaceramica.it/eventi/i-mercoledi-del-mmab-dino-campana/
LOCATION:MMAB\, piazza Vittorio Veneto 11\, Montelupo Fiorentino\, 50056\, Italia
CATEGORIES:Associazioni,Incontri,Letture,Museo,Storia
ATTACH;FMTTYPE=image/jpeg:https://www.stradaceramica.it/wp-content/uploads/2018/12/campana1.jpg
END:VEVENT
END:VCALENDAR