BEGIN:VCALENDAR
VERSION:2.0
PRODID:-//Le Strade della Ceramica - ECPv4.8.2//NONSGML v1.0//EN
CALSCALE:GREGORIAN
METHOD:PUBLISH
X-WR-CALNAME:Le Strade della Ceramica
X-ORIGINAL-URL:https://www.stradaceramica.it
X-WR-CALDESC:Eventi per Le Strade della Ceramica
BEGIN:VEVENT
DTSTART;TZID=UTC+1:20181121T210000
DTEND;TZID=UTC+1:20181121T210000
DTSTAMP:20260424T201723
CREATED:20181102T105136Z
LAST-MODIFIED:20181102T105136Z
UID:11171-1542834000-1542834000@www.stradaceramica.it
SUMMARY:Giornata mondiale contro la violenza sulle donne: Proiezione del film "Nome di donna"
DESCRIPTION:Il film – Che ha come protagonista Cristiana Capotondi – affronta il tema delle molestie sul luogo di lavoro\, balzato di recente agli onori della cronaca\, ma nascosto per anni sotto il tappeto. <Non è un film di denuncia\, piuttosto una sorta di indagine sul fatto\, sul sasso lanciato nello stagno\, sulle conseguenze che ne derivano\, sui cerchi che si allargano fino a lambire sponde anche molto lontane> spiega il regista Marco Tullio Giordana. <La gestazione è durata tre anni\, nessuno sembrava interessato al progetto\, ma sapevamo che raccontare tutto questo era un dovere. Poi tutto è esploso\, il rimosso collettivo ha finalmente tracimato gli argini>. \nLa pellicola racconta di Nina (Cristiana Capotondi) che si trasferisce da Milano in un piccolo paese della Lombardia\, dove trova lavoro in una residenza per anziani facoltosi. Un mondo elegante\, quasi fiabesco…. Che cela però un segreto scomodo e torbido. Quando Nina lo scoprirà\, sarà costretta a misurarsi con le sue colleghe\, italiane e straniere\, per affrontare il dirigente della struttura\, Marco Maria Torri (Valerio Binasco) in una battaglia per far valere i suoi diritti e la sua dignità. \n
URL:https://www.stradaceramica.it/eventi/giornata-mondiale-contro-la-violenza-sulle-donne-proiezione-del-film-nome-di-donna/
LOCATION:Teatro Cinema Mignon\, Via Baccio da Montelupo\, 33\, 50056 Montelupo Fiorentino FI\, Montelupo Fiorentino
CATEGORIES:Cinema,Incontri
ATTACH;FMTTYPE=image/jpeg:https://www.stradaceramica.it/wp-content/uploads/2018/11/3.jpg
END:VEVENT
END:VCALENDAR