BEGIN:VCALENDAR
VERSION:2.0
PRODID:-//Le Strade della Ceramica - ECPv4.8.2//NONSGML v1.0//EN
CALSCALE:GREGORIAN
METHOD:PUBLISH
X-WR-CALNAME:Le Strade della Ceramica
X-ORIGINAL-URL:https://www.stradaceramica.it
X-WR-CALDESC:Eventi per Le Strade della Ceramica
BEGIN:VEVENT
DTSTART;TZID=UTC+1:20191127T213000
DTEND;TZID=UTC+1:20191127T230000
DTSTAMP:20260424T123627
CREATED:20191114T103304Z
LAST-MODIFIED:20191114T103304Z
UID:12009-1574890200-1574895600@www.stradaceramica.it
SUMMARY:Giornata contro la violenza sulle donne - IL CORPO DELLA SPOSA
DESCRIPTION:L’amministrazione comunale\, in collaborazione con il cinema Mignon\, ha deciso di affrontare il tema della violenza sulle donne con la proiezione del film “Il corpo della sposa” di Michela Occhipinti. \nLa pellicola pone l’attenzione su come il corpo delle donne venga piegato all’ubbidienza dei canoni maschili.\nL’esordio nella finzione di Michela Occhipinti\, già viaggiatrice e documentarista\, che è andata a scovare una ragazza dagli occhi profondi in Mauritania e ha deciso di raccontarne la storia. \nPer approfondire:\nhttps://www.mymovies.it/film/2019/il-corpo-della-sposa \n
URL:https://www.stradaceramica.it/eventi/giornata-contro-la-violenza-sulle-donne-il-corpo-della-sposa/
LOCATION:Teatro Cinema Mignon\, Via Baccio da Montelupo\, 33\, 50056 Montelupo Fiorentino FI\, Montelupo Fiorentino
CATEGORIES:Cinema,Donne
ATTACH;FMTTYPE=image/png:https://www.stradaceramica.it/wp-content/uploads/2019/11/BANNER-EVENTO-FBv.3.png
ORGANIZER;CN="Comune%20di%20Montelupo%20Fiorentino":MAILTO:m.cubattoli@comune.montelupo-fiorentino.fi.it
END:VEVENT
END:VCALENDAR