BEGIN:VCALENDAR
VERSION:2.0
PRODID:-//Le Strade della Ceramica - ECPv4.8.2//NONSGML v1.0//EN
CALSCALE:GREGORIAN
METHOD:PUBLISH
X-WR-CALNAME:Le Strade della Ceramica
X-ORIGINAL-URL:https://www.stradaceramica.it
X-WR-CALDESC:Eventi per Le Strade della Ceramica
BEGIN:VEVENT
DTSTART;TZID=UTC+1:20190616T210000
DTEND;TZID=UTC+1:20190616T230000
DTSTAMP:20260424T170954
CREATED:20190613T101729Z
LAST-MODIFIED:20190613T104928Z
UID:11716-1560718800-1560726000@www.stradaceramica.it
SUMMARY:Disprigionare l'immenso: concerto del Maggio Musicale all'Ambrogiana
DESCRIPTION:Domenica 16 giugno il Maggio Musicale Fiorentino\, con gli artisti del suo coro\, approda alla villa medicea dell’Ambrogiana a Montelupo Fiorentino. Il concerto sarà incentrato sullo Stabat Mater di Giovan Battista Pergolesi\, accostato alle letture delle poesie di Alda Merini. Il titolo dello spettacolo riprende un celebre verso della poetessa dei Navigli: “Disprigionare l’immenso”. La cornice spettacolare che accoglierà il concerto è quella della scalinata di accesso alla villa dell’Ambrogiana\, progettata nel 1574 dagli architetti al servizio del granducato Antonio Dosio e Bartolommeo Ammannati\, uno dei luoghi più suggestivi di tutto il complesso mediceo. Il concerto è gratuito e inizierà alle 21.00\, ma per chi vuole sarà possibile anche prenotare una visita guidata all’intero complesso e un aperitivo con buffet sulla terrazza della villa\, al costo di dieci euro. La visita inizierà alle 19.00 si consiglia di arrivare in anticipo per fare il biglietto di ingresso. \nCi si può prenotare al museo della ceramica chiamando il numero 0571-51087 oppure scrivendo una mail a info@museomontelupo.it \n
URL:https://www.stradaceramica.it/eventi/disprigionare-limmenso-concerto-del-maggio-musicale-allambrogiana/
LOCATION:Villa Medicea dell’Ambrogiana\, viale Umberto I\, Montelupo Fiorentino\, 50056\, Italia
CATEGORIES:arte,Cultura,Domenica,Letture,Musica,Storia,territorio
ATTACH;FMTTYPE=image/jpeg:https://www.stradaceramica.it/wp-content/uploads/2019/06/disprigionareimmenso.jpg
ORGANIZER;CN="Comune%20di%20Montelupo%20Fiorentino":MAILTO:m.cubattoli@comune.montelupo-fiorentino.fi.it
END:VEVENT
END:VCALENDAR