BEGIN:VCALENDAR
VERSION:2.0
PRODID:-//Le Strade della Ceramica - ECPv4.8.2//NONSGML v1.0//EN
CALSCALE:GREGORIAN
METHOD:PUBLISH
X-WR-CALNAME:Le Strade della Ceramica
X-ORIGINAL-URL:https://www.stradaceramica.it
X-WR-CALDESC:Eventi per Le Strade della Ceramica
BEGIN:VEVENT
DTSTART;TZID=UTC+1:20180322T200000
DTEND;TZID=UTC+1:20180322T233000
DTSTAMP:20260425T003649
CREATED:20180308T105653Z
LAST-MODIFIED:20180313T084054Z
UID:10015-1521748800-1521761400@www.stradaceramica.it
SUMMARY:IN DIFESA DELLA PESA
DESCRIPTION:Una serata per conoscere meglio il fiume e le sue peculiari bellezze\, la flora e la fauna che accoglie\, i suoi problemi e le possibilità inespresse. La necessità di difenderlo a beneficio di chi ci vive\, dalla sorgente all’immissione nel fiume Arno. L’opportunità rappresentata da un “contratto di fiume” che impegni le comunità che ci vivono intorno. Si comincia con la solita “pastasciutta” delle Veglie Paesane\, a cui la serata si ispira\, per procedere con documenti e dibattito. \n
URL:https://www.stradaceramica.it/eventi/difesa-della-pesa/
LOCATION:circolo arci Il Progresso\, via Rovai 43\, Montelupo Fiorentino\, 50056
CATEGORIES:fiume,territorio
ATTACH;FMTTYPE=image/jpeg:https://www.stradaceramica.it/wp-content/uploads/2018/03/29101190_10215108040395428_3462433236230078464_n.jpg
END:VEVENT
END:VCALENDAR