BEGIN:VCALENDAR
VERSION:2.0
PRODID:-//Le Strade della Ceramica - ECPv4.8.2//NONSGML v1.0//EN
CALSCALE:GREGORIAN
METHOD:PUBLISH
X-WR-CALNAME:Le Strade della Ceramica
X-ORIGINAL-URL:https://www.stradaceramica.it
X-WR-CALDESC:Eventi per Le Strade della Ceramica
BEGIN:VEVENT
DTSTART;TZID=UTC+1:20180627T190000
DTEND;TZID=UTC+1:20180627T233000
DTSTAMP:20260424T104434
CREATED:20180625T102907Z
LAST-MODIFIED:20180627T090639Z
UID:10512-1530126000-1530142200@www.stradaceramica.it
SUMMARY:Dal mmab si vede capraia| Aperitivo
DESCRIPTION:Torna anche in questa calda estate l’evento\, organizzato dal MMAB Caffè\, che profuma di fresco.\nMercoledì 27 giugno dalle 19 alle 24\, nel piazzale esterno del MMAB\, cibo e musica sotto le stelle con apericena e dj set Fabio Little Rosini DJ & Fritz Orlowski DJ.\nNovità di quest’anno il Clay Cafe: scegli pennelli e colori e dipingi la tua tazza\, noi la cuoceremo per te! \n
URL:https://www.stradaceramica.it/eventi/dal-mmmab-si-vede-capraia/
LOCATION:MMAB\, piazza Vittorio Veneto 11\, Montelupo Fiorentino\, 50056\, Italia
CATEGORIES:aperitivi,Ceramica
ATTACH;FMTTYPE=image/jpeg:https://www.stradaceramica.it/wp-content/uploads/2018/06/mmab.jpg
ORGANIZER;CN="MMAB%20Biblioteca":MAILTO:biblioteca@comune.montelupo-fiorentino.fi.it
END:VEVENT
END:VCALENDAR