BEGIN:VCALENDAR
VERSION:2.0
PRODID:-//Le Strade della Ceramica - ECPv4.8.2//NONSGML v1.0//EN
CALSCALE:GREGORIAN
METHOD:PUBLISH
X-WR-CALNAME:Le Strade della Ceramica
X-ORIGINAL-URL:https://www.stradaceramica.it
X-WR-CALDESC:Eventi per Le Strade della Ceramica
BEGIN:VEVENT
DTSTART;TZID=UTC+1:20190724T190000
DTEND;TZID=UTC+1:20190724T233000
DTSTAMP:20260424T092336
CREATED:20190712T121552Z
LAST-MODIFIED:20190712T121739Z
UID:11747-1563994800-1564011000@www.stradaceramica.it
SUMMARY:Dal MMAB si vede Capraia | Aperitivo e vinili sotto le stelle
DESCRIPTION:Mercoledì 24 luglio il MMAB Caffè ti aspetta per la rassegna dei DJ set al gusto di “vinile”.\nDalle 19.00 alle 24.00\, apericena e bevute sotto le stelle di Montelupo al MMAB Caffè in Piazza Vittorio Veneto\, 11. \n“Dal MMAB si vede Capraia | Aperitivo & DJ set a Vinili” \nAl MMAB di Montelupo Fiorentino dalle ore 19.00 il MMAB Caffè (in collaborazione con La Limonaia Club Fucecchio) ti aspetta per la rassegna dei DJ set al gusto di “vinile”.\nRicordiamo al gentile pubblico che i DJs ospiti suoneranno vinili originali spaziando dal soul\, alla bossanova\, dall’indie\, al beat\, dal jazz al rock’n’roll e tante altre proposte musicali loungissime. Potrete ascoltare Mina\, Morricone\, Carl Perkins\, Coral\, Blur\, Brunori Sas\, Roy Orbison\, Piero Umiliani\, Supremes\, Gino Paoli\, Lalo Shifrin\, Bobby Womack\, Buddy Holly\, Bowie\, Lucio Battisti\, Mal e i Primitives\, Rat Boy\, Gloria Gaynor\, Selton\, Aquarama\, Gene Vincent e tanti altri…\nIl tutto sarà accompagnato da cocktails\, bibite e stuzzichini appetitosi preparati dalla crew del MMAB caffè.\nRicco menù sfizioso\, caldo e freddo. \nIL PROGRAMMA \nMercoledì 17 Luglio 2019 DJ Set con…\nFulci Dj + Duccio DJ \nMercoledì 24 Luglio 2019 DJ Set con…\nFritz Orlowski DJ + Belvedere DJ \nMercoledì 31 Luglio 2019 DJ Set con…\nFulci Dj + Little DJ \n
URL:https://www.stradaceramica.it/eventi/dal-mmab-sivedecapraia-aperitivo-e-dj-set-a-vinili-2/
LOCATION:MMAB\, piazza Vittorio Veneto 11\, Montelupo Fiorentino\, 50056\, Italia
ATTACH;FMTTYPE=image/jpeg:https://www.stradaceramica.it/wp-content/uploads/2019/07/Senza-titolo-1_Tavola-disegno-1.jpg
END:VEVENT
END:VCALENDAR