BEGIN:VCALENDAR
VERSION:2.0
PRODID:-//Le Strade della Ceramica - ECPv4.8.2//NONSGML v1.0//EN
CALSCALE:GREGORIAN
METHOD:PUBLISH
X-WR-CALNAME:Le Strade della Ceramica
X-ORIGINAL-URL:https://www.stradaceramica.it
X-WR-CALDESC:Eventi per Le Strade della Ceramica
BEGIN:VEVENT
DTSTART;TZID=UTC+1:20180711T190000
DTEND;TZID=UTC+1:20180711T233000
DTSTAMP:20260424T153935
CREATED:20180629T091449Z
LAST-MODIFIED:20180710T163222Z
UID:10582-1531335600-1531351800@www.stradaceramica.it
SUMMARY:Dal MMAB si vede capraia| Aperitivo e Dj set a vinili
DESCRIPTION:Mercoledì 11 luglio dalle ore 19.00 il MMAB Caffè ti aspetta per la rassegna dei DJ set al gusto di “vinile”. \nDalle 19.00 alle 24.00\, apericena e bevute sotto le stelle di Montelupo al MMAB Caffè in Piazza Vittorio Veneto\, 11. \n\n“Dal MMAB sivedecapraia | Aperitivo & DJ set a Vinili” \nAlla Biblioteca (Museo della Ceramica) di Montelupo fiorentino dalle ore 19.00 il MMAB Caffè ti aspetta per la rassegna dei DJ set al gusto di “vinile”.\nRicordiamo al gentile pubblico che i DJs ospiti suoneranno vinili originali spaziando dal soul\, alla bossanova\, dall’indie\, al beat\, dal jazz al rock’n’roll e tante altre proposte musicali loungissime. Potrete ascoltare Mina\, Morricone\, Carl Perkins\, Coral\, Blur\, Brunori Sas\, Roy Orbison\, Piero Umiliani\, Supremes\, Gino Paoli\, Lalo Shifrin\, Bobby Womack\, Buddy Holly\, Bowie\, Lucio Battisti\, Mal e i Primitives\, Rat Boy\, Gloria Gaynor\, Selton\, Aquarama\, Gene Vincent e tanti altri…\nIl tutto sarà accompagnato da cocktails\, bibite e stuzzichini appetitosi preparati dalla crew del MMAB caffè.\nStudenti\, lavoratori\, pensionati\, vacanzieri nostalgici di Montelupo e non\, vi aspettiamo per questo primo appuntamento dopo la pausa di agosto.. \nMercoledì 11 Luglio 2018 DJ Set con…\nBeke Bauer + Fulci Dj + Fritz Orlowski DJ \nRicco menù sfizioso\, caldo e freddo\, a sorpresa 🙂 \n*CON IL BIGLIETTO DEL CINEMA SOTTO LE STELLE RICEVERETE LO SCONTO DI € 1 SULLA PRIMA CONSUMAZIONE \nNovità di quest’anno il Clay Cafe: scegli pennelli e colori e dipingi la tua tazza\, noi la cuoceremo per te! \n▀▀ ▀▀▀▀ ▀▀▀▀ ▀▀▀▀ ▀▀▀▀ ▀▀▀▀ ▀▀▀▀ ▀▀▀▀ ▀▀▀▀ ▀▀▀▀ ▀▀ \nPROSSIMI APPUNTAMENTI:\n▀ Mercoledì 25 Luglio 2018\nDuccio Parenti DJ & Fulci DJ \nMMAB Caffè\nPiazza Vittorio Veneto 10 – Montelupo FIorentino (FI)\nhttps://www.facebook.com/mmabmontelupo/\nIngresso gratuito\n\nM \n  \n  \n
URL:https://www.stradaceramica.it/eventi/dal-mmab-si-vede-capraia-aperitivo-e-dj-set-a-vinili/
LOCATION:MMAB\, piazza Vittorio Veneto 11\, Montelupo Fiorentino\, 50056\, Italia
CATEGORIES:aperitivi
ATTACH;FMTTYPE=image/jpeg:https://www.stradaceramica.it/wp-content/uploads/2018/06/mmab.jpg
END:VEVENT
END:VCALENDAR