BEGIN:VCALENDAR
VERSION:2.0
PRODID:-//Le Strade della Ceramica - ECPv4.8.2//NONSGML v1.0//EN
CALSCALE:GREGORIAN
METHOD:PUBLISH
X-WR-CALNAME:Le Strade della Ceramica
X-ORIGINAL-URL:https://www.stradaceramica.it
X-WR-CALDESC:Eventi per Le Strade della Ceramica
BEGIN:VEVENT
DTSTART;TZID=UTC+1:20180615T180000
DTEND;TZID=UTC+1:20180617T233000
DTSTAMP:20260424T115901
CREATED:20180216T141130Z
LAST-MODIFIED:20180529T092019Z
UID:9945-1529085600-1529278200@www.stradaceramica.it
SUMMARY:Cèramica 2018
DESCRIPTION:Cèramica\, la tradizionale festa della ceramica di Montelupo Fiorentino\, nel 2018 si svolgerà nei giorni 15\, 16 e 17 giugno. \nProssimamente saranno pubblicati i dettagli del programma. \nConsulta il sito della festa. \n
URL:https://www.stradaceramica.it/eventi/ceramica-2018/
LOCATION:Centro di Montelupo
CATEGORIES:arte,Bambini,Ceramica,Cultura,Laboratorio,mostre,Museo
ATTACH;FMTTYPE=image/jpeg:https://www.stradaceramica.it/wp-content/uploads/2018/02/26678305_1725714030801721_2502204109152651301_o.jpg
ORGANIZER;CN="Comune%20di%20Montelupo%20Fiorentino":MAILTO:m.cubattoli@comune.montelupo-fiorentino.fi.it
END:VEVENT
END:VCALENDAR