BEGIN:VCALENDAR
VERSION:2.0
PRODID:-//Le Strade della Ceramica - ECPv4.8.2//NONSGML v1.0//EN
CALSCALE:GREGORIAN
METHOD:PUBLISH
X-WR-CALNAME:Le Strade della Ceramica
X-ORIGINAL-URL:https://www.stradaceramica.it
X-WR-CALDESC:Eventi per Le Strade della Ceramica
BEGIN:VEVENT
DTSTART;VALUE=DATE:20180520
DTEND;VALUE=DATE:20180521
DTSTAMP:20260424T183921
CREATED:20180507T102121Z
LAST-MODIFIED:20180507T102121Z
UID:10361-1526774400-1526860799@www.stradaceramica.it
SUMMARY:CAMMINANDO INSIEME verso.. Cantangallo
DESCRIPTION:Continuano nel mese di maggio le camminate organizzate dal gruppo Camminando insieme del circolo Arci il Progresso. \nAppuntamento per domenica 20 maggio alle ore 9.00 presso il circolo. \nPer ulteriori informazioni potete contattare la pagina Facebook del Circolo. \n
URL:https://www.stradaceramica.it/eventi/camminando-insieme-verso-cantangallo/
LOCATION:circolo arci Il Progresso\, via Rovai 43\, Montelupo Fiorentino\, 50056
CATEGORIES:natura,passeggiate
ATTACH;FMTTYPE=image/jpeg:https://www.stradaceramica.it/wp-content/uploads/2018/05/31934378_2071488479738192_6722076258684895232_n.jpg
END:VEVENT
END:VCALENDAR