BEGIN:VCALENDAR
VERSION:2.0
PRODID:-//Le Strade della Ceramica - ECPv4.8.2//NONSGML v1.0//EN
CALSCALE:GREGORIAN
METHOD:PUBLISH
X-WR-CALNAME:Le Strade della Ceramica
X-ORIGINAL-URL:https://www.stradaceramica.it
X-WR-CALDESC:Eventi per Le Strade della Ceramica
BEGIN:VEVENT
DTSTART;TZID=UTC+1:20180718T213000
DTEND;TZID=UTC+1:20180718T233000
DTSTAMP:20260424T183318
CREATED:20180703T100243Z
LAST-MODIFIED:20180704T085216Z
UID:10667-1531949400-1531956600@www.stradaceramica.it
SUMMARY:MIGNON SOTTO LE STELLE| ELLA & JOHN DI PAOLO VIRZì
DESCRIPTION:Il Cinema Mignon propone per la stagione estiva: \nMIGNON SOTTO LE STELLE– Ex cinema Risorti- ingresso da Via Baccio \nMercoledì 18 Luglio: ELLA & JOHN di Paolo Virzì \nPer informazioni: www.cinemamignon.it \nDi seguito il programma completo del mese di Luglio \n \n  \n
URL:https://www.stradaceramica.it/eventi/borgo-sotto-le-stelle-ella-john-di-paolo-virzi/
LOCATION:Ex cinema Risorti\, Corso Garibaldi\, Montelupo Fiorentino
CATEGORIES:Cinema
ATTACH;FMTTYPE=image/jpeg:https://www.stradaceramica.it/wp-content/uploads/2018/07/image005.jpg
ORGANIZER;CN="Comune%20di%20Montelupo%20Fiorentino":MAILTO:m.cubattoli@comune.montelupo-fiorentino.fi.it
END:VEVENT
END:VCALENDAR