BEGIN:VCALENDAR
VERSION:2.0
PRODID:-//Le Strade della Ceramica - ECPv4.8.2//NONSGML v1.0//EN
CALSCALE:GREGORIAN
METHOD:PUBLISH
X-WR-CALNAME:Le Strade della Ceramica
X-ORIGINAL-URL:https://www.stradaceramica.it
X-WR-CALDESC:Eventi per Le Strade della Ceramica
BEGIN:VEVENT
DTSTART;TZID=UTC+1:20181207T210000
DTEND;TZID=UTC+1:20181221T233000
DTSTAMP:20260424T170800
CREATED:20181205T114002Z
LAST-MODIFIED:20181205T114002Z
UID:11327-1544216400-1545435000@www.stradaceramica.it
SUMMARY:All'Osservatorio Beppe Forti... In cerca della cometa 46P
DESCRIPTION:Venerdì 7\, 14 e 21 dicembre\, dalle 21:00 alle 24:00 \nNel mese di dicembre\, l’Osservatorio Beppe Forti sarà aperto alla popolazione\, in occasione dell’arrivo di una cometa che ci accompagnerà per tutto il periodo natalizio\, visibile bene anche con piccoli strumenti e forse… anche ad occhio nudo! \nSi tratta della cometa 46P\, una cometa periodica di corto periodo nel nostro Sistema Solare\, scoperta fotograficamente il 17 gennaio 1948 dall’astronomo statunitense Carl Alvar Wirtanen. \nLa lastra fu esposta il 15 gennaio durante una campagna osservativa del Lick Observatory sul moto proprio stellare. A causa del numero limitato di osservazioni iniziali\, trascorse più di un anno prima che fosse riconosciuta come una cometa di corto periodo. \nIl suo attuale periodo orbitale è di 5\,44 anni. Inizialmente era stata selezionata come obiettivo della missione Rosetta dell’Agenzia Spaziale Europea. Appartiene alla famiglia delle comete gioviane\, i cui membri posseggono un afelio tra le 5 e le 6 UA. È stato stimato che il suo diametro  sia di 1\,2 km. \nIl 16 dicembre del 2018 sarà a solo 11\,5 milioni di chilometri dalla Terra\, con un magnitudo fino a 6.0 e potrebbe essere visibile ad occhio nudo per diversi giorni… \n
URL:https://www.stradaceramica.it/eventi/allosservatorio-beppe-forti-in-cerca-della-cometa-46p/
LOCATION:Osservatorio Beppe Forti\, via San Vito\, Montelupo Fiorentino\, Italia
CATEGORIES:Associazioni,Incontri,passeggiate,ragazzi,territorio
ATTACH;FMTTYPE=image/jpeg:https://www.stradaceramica.it/wp-content/uploads/2018/12/COMETA.jpg
END:VEVENT
END:VCALENDAR